BEGIN:VCALENDAR
VERSION:2.0
PRODID:-//ГастроПаб Закон Бернулли - ECPv4.6.21//NONSGML v1.0//EN
CALSCALE:GREGORIAN
METHOD:PUBLISH
X-WR-CALNAME:ГастроПаб Закон Бернулли
X-ORIGINAL-URL:http://new.zakonbernulli.ru
X-WR-CALDESC:Events for ГастроПаб Закон Бернулли
BEGIN:VEVENT
DTSTART;TZID=UTC+3:20180825T210000
DTEND;TZID=UTC+3:20180825T230000
DTSTAMP:20260421T121238
CREATED:20180822T124518Z
LAST-MODIFIED:20180822T124643Z
UID:7571-1535230800-1535238000@new.zakonbernulli.ru
SUMMARY:LiRikA
DESCRIPTION:25 августа в 21:00 в пабе Закон Бернулли Русский Рок!\nВас ждёт возвращение во времена\, о которых каждый из нас вспоминает с особенным теплом и лёгкой грустью. Московская группа Lirika исполнит для вас более двух десятков кавер-версий самых узнаваемых хитов Русского Рока: Агата Кристи\, Ляпис Трубецкой\, Жуки\, Ленинград\, Гроб\, Чайф\, Кино\, Киш \, Би 2\, Сплин\, Мумий Тролль и другие любимые исполнители ! &#x1f3a4; &#x1f3a4; \n#законбернулли #кузьминки #рок #еда \n
URL:http://new.zakonbernulli.ru/event/lirika/
LOCATION:Волгоградский пр\, 117\, к3\, Москва\, Российская Федерация
ATTACH;FMTTYPE=image/jpeg:http://new.zakonbernulli.ru/wp-content/uploads/2018/08/6ека-900x444.jpg
END:VEVENT
END:VCALENDAR