BEGIN:VCALENDAR
VERSION:2.0
PRODID:-//ГастроПаб Закон Бернулли - ECPv4.6.21//NONSGML v1.0//EN
CALSCALE:GREGORIAN
METHOD:PUBLISH
X-WR-CALNAME:ГастроПаб Закон Бернулли
X-ORIGINAL-URL:http://new.zakonbernulli.ru
X-WR-CALDESC:Events for ГастроПаб Закон Бернулли
BEGIN:VEVENT
DTSTART;TZID=UTC+3:20180908T210000
DTEND;TZID=UTC+3:20180908T230000
DTSTAMP:20260421T120904
CREATED:20180906T102936Z
LAST-MODIFIED:20180906T102936Z
UID:7637-1536440400-1536447600@new.zakonbernulli.ru
SUMMARY:Борис Булкин & Stainless Blues Band
DESCRIPTION:8 сентября в 21:00 в ресторане Закон Бернулли в Кузьминках выступит блюз-исполнитель Борис Булкин!\nБорис Булкин – один из самых узнаваемых представителей российской блюзовой сцены. Борис известен как единственный наш музыкант- соотечественник\, удостоившийся чести выступать на одной сцене со звездой рок-н- ролла мирового уровня – самим Чаком Берри!\nПриходите в «Закон Бернулли»\, чтобы влиться в особую праздничную атмосферу: приятному времяпрепровождению поспособствуют талант приглашенного музыканта и качественное звучание\, а также огромный выбор сортов крафтового и импортного пива\, аппетитных блюд и закусок.\nНачало выступления Бориса Булкина в 21:00. Вход свободный!\n\n
URL:http://new.zakonbernulli.ru/event/%d0%b1%d0%be%d1%80%d0%b8%d1%81-%d0%b1%d1%83%d0%bb%d0%ba%d0%b8%d0%bd-stainless-blues-band/
ATTACH;FMTTYPE=image/jpeg:http://new.zakonbernulli.ru/wp-content/uploads/2018/09/maxresdefault-1.jpg
END:VEVENT
END:VCALENDAR